BEGIN:VCALENDAR
VERSION:2.0
PRODID:-//wp-events-plugin.com//7.2.3.1//EN
TZID:Europe/Warsaw
X-WR-TIMEZONE:Europe/Warsaw
BEGIN:VEVENT
UID:11124@superkarate.pl
DTSTART;TZID=Europe/Warsaw:20260428T193000
DTEND;TZID=Europe/Warsaw:20260428T211500
DTSTAMP:20260305T163222Z
URL:https://superkarate.pl/events/boks-2026-03-05-2026-03-10-2026-03-12-20
 26-03-17-2026-03-19-2026-03-24-2026-03-26-2026-03-31-2026-04-02-2026-04-07
 -2026-04-09-2026-04-14-2026-04-16-2026-04-21-2026-04-23-2026-04-28/
SUMMARY:BOKS
DESCRIPTION:
CATEGORIES:BOKS OCHOTA POCZĄTKUJĄCY,PROGRESS GYM
LOCATION:PROGRESS GYM\, ul. Rokosowska 10\, WARSZAWA\, POLSKA\, Poland
X-APPLE-STRUCTURED-LOCATION;VALUE=URI;X-ADDRESS=ul. Rokosowska 10\, WARSZAW
 A\, POLSKA\, Poland;X-APPLE-RADIUS=100;X-TITLE=PROGRESS GYM:geo:0,0
END:VEVENT
BEGIN:VTIMEZONE
TZID:Europe/Warsaw
X-LIC-LOCATION:Europe/Warsaw
BEGIN:DAYLIGHT
DTSTART:20260329T030000
TZOFFSETFROM:+0100
TZOFFSETTO:+0200
TZNAME:CEST
END:DAYLIGHT
END:VTIMEZONE
END:VCALENDAR