BEGIN:VCALENDAR
VERSION:2.0
PRODID:-//wp-events-plugin.com//7.2.3.1//EN
TZID:Europe/Warsaw
X-WR-TIMEZONE:Europe/Warsaw
BEGIN:VEVENT
UID:10197@superkarate.pl
DTSTART;TZID=Europe/Warsaw:20260426T100000
DTEND;TZID=Europe/Warsaw:20260426T120000
DTSTAMP:20260223T122747Z
URL:https://superkarate.pl/events/boks-4-2026-01-04-2026-01-11-2026-01-18-
 2026-01-25-2026-02-01-2026-02-08-2026-02-15-2026-02-22-2026-03-01-2026-03-
 08-2026-03-15-2026-03-22-2026-03-29-2026-04-05-2026-04-12-2026-04-19-2026-
 04-26/
SUMMARY:BOKS
DESCRIPTION:
CATEGORIES:BOKS OCHOTA POCZĄTKUJĄCY,BOKS OCHOTA ZAAWANSOWANI,PROGRESS
 GYM
LOCATION:PROGRESS GYM\, ul. Rokosowska 10\, WARSZAWA\, POLSKA\, Poland
X-APPLE-STRUCTURED-LOCATION;VALUE=URI;X-ADDRESS=ul. Rokosowska 10\, WARSZAW
 A\, POLSKA\, Poland;X-APPLE-RADIUS=100;X-TITLE=PROGRESS GYM:geo:0,0
END:VEVENT
BEGIN:VTIMEZONE
TZID:Europe/Warsaw
X-LIC-LOCATION:Europe/Warsaw
BEGIN:DAYLIGHT
DTSTART:20260329T030000
TZOFFSETFROM:+0100
TZOFFSETTO:+0200
TZNAME:CEST
END:DAYLIGHT
END:VTIMEZONE
END:VCALENDAR