BEGIN:VCALENDAR
VERSION:2.0
PRODID:-//wp-events-plugin.com//7.2.3.1//EN
TZID:Europe/Warsaw
X-WR-TIMEZONE:Europe/Warsaw
BEGIN:VEVENT
UID:10716@superkarate.pl
DTSTART;TZID=Europe/Warsaw:20260428T170000
DTEND;TZID=Europe/Warsaw:20260428T175500
DTSTAMP:20260305T155508Z
URL:https://superkarate.pl/events/karate-kyokushin-10-2026-03-05-2026-03-1
 0-2026-03-12-2026-03-17-2026-03-19-2026-03-24-2026-03-26-2026-03-31-2026-0
 4-02-2026-04-07-2026-04-09-2026-04-14-2026-04-16-2026-04-21-2026-04-23-202
 6-04-28/
SUMMARY:KARATE KYOKUSHIN
DESCRIPTION:
CATEGORIES:URSUS
LOCATION:URSUS\, Al. Bzów 47\, WARSZAWA\, POLSKA\, Poland
X-APPLE-STRUCTURED-LOCATION;VALUE=URI;X-ADDRESS=Al. Bzów 47\, WARSZAWA\, P
 OLSKA\, Poland;X-APPLE-RADIUS=100;X-TITLE=URSUS:geo:0,0
END:VEVENT
BEGIN:VTIMEZONE
TZID:Europe/Warsaw
X-LIC-LOCATION:Europe/Warsaw
BEGIN:DAYLIGHT
DTSTART:20260329T030000
TZOFFSETFROM:+0100
TZOFFSETTO:+0200
TZNAME:CEST
END:DAYLIGHT
END:VTIMEZONE
END:VCALENDAR