BEGIN:VCALENDAR
VERSION:2.0
PRODID:-//wp-events-plugin.com//7.2.3.1//EN
TZID:Europe/Warsaw
X-WR-TIMEZONE:Europe/Warsaw
BEGIN:VEVENT
UID:10312@superkarate.pl
DTSTART;TZID=Europe/Warsaw:20260513T170000
DTEND;TZID=Europe/Warsaw:20260513T180000
DTSTAMP:20260305T154551Z
URL:https://superkarate.pl/events/karate-kyokushin-17-2026-03-09-2026-03-1
 1-2026-03-16-2026-03-18-2026-03-23-2026-03-25-2026-03-30-2026-04-01-2026-0
 4-06-2026-04-08-2026-04-13-2026-04-15-2026-04-20-2026-04-22-2026-04-27-2-1
 1-2026-05-13/
SUMMARY:KARATE KYOKUSHIN
DESCRIPTION:
CATEGORIES:MROKÓW
LOCATION:MROKÓW\, ul. M.Świątkiewicz 2A\, MROKÓW\, POLSKA\, Poland
X-APPLE-STRUCTURED-LOCATION;VALUE=URI;X-ADDRESS=ul. M.Świątkiewicz 2A\, M
 ROKÓW\, POLSKA\, Poland;X-APPLE-RADIUS=100;X-TITLE=MROKÓW:geo:0,0
END:VEVENT
BEGIN:VTIMEZONE
TZID:Europe/Warsaw
X-LIC-LOCATION:Europe/Warsaw
BEGIN:DAYLIGHT
DTSTART:20260329T030000
TZOFFSETFROM:+0100
TZOFFSETTO:+0200
TZNAME:CEST
END:DAYLIGHT
END:VTIMEZONE
END:VCALENDAR