BEGIN:VCALENDAR
VERSION:2.0
PRODID:-//wp-events-plugin.com//7.2.3.1//EN
TZID:Europe/Warsaw
X-WR-TIMEZONE:Europe/Warsaw
BEGIN:VEVENT
UID:6775@superkarate.pl
DTSTART;TZID=Europe/Warsaw:20270108T163000
DTEND;TZID=Europe/Warsaw:20270108T172500
DTSTAMP:20260202T084300Z
URL:https://superkarate.pl/events/karate-kyokushin-20-2026-01-02-2026-01-0
 7-2026-01-09-2026-01-14-2026-01-16-2026-01-21-2026-01-23-2026-01-28-2026-0
 1-30-2026-02-04-2026-02-06-2026-02-11-2026-02-13-2026-02-18-2026-02-20-2-0
 6-2027-01-08/
SUMMARY:KARATE KYOKUSHIN
DESCRIPTION:
CATEGORIES:DUCHNICE
LOCATION:DUCHNICE\, SP ul. Duchnicka 25\, DUCHNICE\, POLSKA\, Poland
X-APPLE-STRUCTURED-LOCATION;VALUE=URI;X-ADDRESS=SP ul. Duchnicka 25\, DUCHN
 ICE\, POLSKA\, Poland;X-APPLE-RADIUS=100;X-TITLE=DUCHNICE:geo:0,0
END:VEVENT
BEGIN:VTIMEZONE
TZID:Europe/Warsaw
X-LIC-LOCATION:Europe/Warsaw
BEGIN:STANDARD
DTSTART:20261025T020000
TZOFFSETFROM:+0200
TZOFFSETTO:+0100
TZNAME:CET
END:STANDARD
END:VTIMEZONE
END:VCALENDAR