BEGIN:VCALENDAR
VERSION:2.0
PRODID:-//wp-events-plugin.com//7.2.3.1//EN
TZID:Europe/Warsaw
X-WR-TIMEZONE:Europe/Warsaw
BEGIN:VEVENT
UID:7900@superkarate.pl
DTSTART;TZID=Europe/Warsaw:20260424T173000
DTEND;TZID=Europe/Warsaw:20260424T183000
DTSTAMP:20260305T154926Z
URL:https://superkarate.pl/events/karate-kyokushin-21-2026-04-24/
SUMMARY:KARATE KYOKUSHIN
DESCRIPTION:
CATEGORIES:DUCHNICE
LOCATION:DUCHNICE\, SP ul. Duchnicka 25\, DUCHNICE\, POLSKA\, Poland
X-APPLE-STRUCTURED-LOCATION;VALUE=URI;X-ADDRESS=SP ul. Duchnicka 25\, DUCHN
 ICE\, POLSKA\, Poland;X-APPLE-RADIUS=100;X-TITLE=DUCHNICE:geo:0,0
END:VEVENT
BEGIN:VTIMEZONE
TZID:Europe/Warsaw
X-LIC-LOCATION:Europe/Warsaw
BEGIN:DAYLIGHT
DTSTART:20260329T030000
TZOFFSETFROM:+0100
TZOFFSETTO:+0200
TZNAME:CEST
END:DAYLIGHT
END:VTIMEZONE
END:VCALENDAR