BEGIN:VCALENDAR
VERSION:2.0
PRODID:-//wp-events-plugin.com//7.2.3.1//EN
TZID:Europe/Warsaw
X-WR-TIMEZONE:Europe/Warsaw
BEGIN:VEVENT
UID:10239@superkarate.pl
DTSTART;TZID=Europe/Warsaw:20260427T151500
DTEND;TZID=Europe/Warsaw:20260427T161500
DTSTAMP:20260305T145843Z
URL:https://superkarate.pl/events/karate-kyokushin-31-2026-03-09-2026-03-1
 1-2026-03-16-2026-03-18-2026-03-23-2026-03-25-2026-03-30-2026-04-01-2026-0
 4-06-2026-04-08-2026-04-13-2026-04-15-2026-04-20-2026-04-22-2026-04-27/
SUMMARY:KARATE KYOKUSHIN
DESCRIPTION:
CATEGORIES:WOLA
LOCATION:WOLA\, ul. Ożarowska 69\, WARSZAWA\, POLSKA\, MAZOWIECKIE\, Polan
 d
X-APPLE-STRUCTURED-LOCATION;VALUE=URI;X-ADDRESS=ul. Ożarowska 69\, WARSZAW
 A\, POLSKA\, MAZOWIECKIE\, Poland;X-APPLE-RADIUS=100;X-TITLE=WOLA:geo:0,0
END:VEVENT
BEGIN:VTIMEZONE
TZID:Europe/Warsaw
X-LIC-LOCATION:Europe/Warsaw
BEGIN:DAYLIGHT
DTSTART:20260329T030000
TZOFFSETFROM:+0100
TZOFFSETTO:+0200
TZNAME:CEST
END:DAYLIGHT
END:VTIMEZONE
END:VCALENDAR