BEGIN:VCALENDAR
VERSION:2.0
PRODID:-//wp-events-plugin.com//7.2.3.1//EN
TZID:Europe/Warsaw
X-WR-TIMEZONE:Europe/Warsaw
BEGIN:VEVENT
UID:10211@superkarate.pl
DTSTART;TZID=Europe/Warsaw:20260530T110000
DTEND;TZID=Europe/Warsaw:20260530T120000
DTSTAMP:20260225T131959Z
URL:https://superkarate.pl/events/karate-kyokushin-kata-2-2026-02-28-2026-
 03-07-2026-03-14-2026-03-21-2026-03-28-2026-04-04-2026-04-11-2026-04-18-20
 26-04-25-2026-05-02-2026-05-09-2026-05-16-2026-05-23-2026-05-30/
SUMMARY:KARATE KYOKUSHIN KATA
DESCRIPTION:
CATEGORIES:OCHOTA
LOCATION:OCHOTA\, ul. Spiska 1\, Warszawa\, Polska\, Poland
X-APPLE-STRUCTURED-LOCATION;VALUE=URI;X-ADDRESS=ul. Spiska 1\, Warszawa\, P
 olska\, Poland;X-APPLE-RADIUS=100;X-TITLE=OCHOTA:geo:0,0
END:VEVENT
BEGIN:VTIMEZONE
TZID:Europe/Warsaw
X-LIC-LOCATION:Europe/Warsaw
BEGIN:DAYLIGHT
DTSTART:20260329T030000
TZOFFSETFROM:+0100
TZOFFSETTO:+0200
TZNAME:CEST
END:DAYLIGHT
END:VTIMEZONE
END:VCALENDAR