BEGIN:VCALENDAR
VERSION:2.0
PRODID:-//wp-events-plugin.com//7.2.3.1//EN
TZID:Europe/Warsaw
X-WR-TIMEZONE:Europe/Warsaw
BEGIN:VEVENT
UID:9882@superkarate.pl
DTSTART;TZID=Europe/Warsaw:20280609T190000
DTEND;TZID=Europe/Warsaw:20280609T203000
DTSTAMP:20260202T085853Z
URL:https://superkarate.pl/events/karate-kyokushin-worki-gruchy-i-poduchy-
 2026-01-02-2026-01-09-2026-01-16-2026-01-23-2026-01-30-2026-02-06-2026-02-
 13-2026-02-20-2026-02-27-2026-03-06-2026-03-13-2026-03-20-2026-03-27-202-0
 2-2028-06-09/
SUMMARY:KARATE KYOKUSHIN WORKI\, GRUCHY I PODUCHY
DESCRIPTION:
CATEGORIES:OCHOTA
LOCATION:OCHOTA\, ul. Spiska 1\, Warszawa\, Polska\, Poland
X-APPLE-STRUCTURED-LOCATION;VALUE=URI;X-ADDRESS=ul. Spiska 1\, Warszawa\, P
 olska\, Poland;X-APPLE-RADIUS=100;X-TITLE=OCHOTA:geo:0,0
END:VEVENT
BEGIN:VTIMEZONE
TZID:Europe/Warsaw
X-LIC-LOCATION:Europe/Warsaw
BEGIN:DAYLIGHT
DTSTART:20280326T030000
TZOFFSETFROM:+0100
TZOFFSETTO:+0200
TZNAME:CEST
END:DAYLIGHT
END:VTIMEZONE
END:VCALENDAR